Workbook

Sheet BASIC RATES
A1: UNITED EXPRESS | I1: WEF 01/01/2022 TILL 31/12/2022
A3: Documents up to 2.0 KG
A4: KG | C4: Zone 1 | D4: Zone 2 | E4: Zone 3 | F4: Zone 4 | G4: Zone 5 | H4: Zone 6 | I4: Zone 7 | J4: Zone 8 | K4: Zone 9 | L4: Zone 10 | M4: Zone 11 | N4: Zone 12 | O4: Zone 13 | P4: Zone 14
A5: 0.5 | C5: 1727.4263 | D5: 1776.06 | E5: 1982.1038 | F5: 1786.6406 | G5: 2460.4594 | H5: 2729.9869 | I5: 2046.5156 | J5: 3708.6019 | K5: 4472.2631 | L5: 3455.4094 | M5: 4224.6394 | N5: 2348.7131 | O5: 2348.7131 | P5: 2489.6025
A6: 1.0 | C6: 2215.4344 | D6: 2175.525 | E6: 2387.88 | F6: 2215.4344 | G6: 3070.98 | H6: 3432.3919 | I6: 2375.8144 | J6: 4807.6875 | K6: 5777.5781 | L6: 4519.7831 | M6: 5543.6906 | N6: 2696.3888 | O6: 2714.7656 | P6: 3063.9263
A7: 1.5 | C7: 2603.3906 | D7: 2581.3013 | E7: 2895.75 | F7: 2603.3906 | G7: 3632.4956 | H7: 4130.7131 | I7: 2713.2806 | J7: 5904.7313 | K7: 7078.8094 | L7: 5041.0181 | M7: 6340.0219 | N7: 2745.9506 | O7: 2905.2169 | P7: 3711.7575
A8: 2.0 | C8: 2989.305 | D8: 2989.1194 | E8: 3405.6619 | F8: 2989.305 | G8: 4196.0531 | H8: 4833.1181 | I8: 3046.6631 | J8: 7005.8588 | K8: 8382.0825 | L8: 5562.2531 | M8: 7134.3113 | N8: 3077.2913 | O8: 3265.1438 | P8: 4363.6725
A10: Non-documents from 0.5 KG & Documents from 2.5 KG
A11: KG | C11: Zone 1 | D11: Zone 2 | E11: Zone 3 | F11: Zone 4 | G11: Zone 5 | H11: Zone 6 | I11: Zone 7 | J11: Zone 8 | K11: Zone 9 | L11: Zone 10 | M11: Zone 11 | N11: Zone 12 | O11: Zone 13 | P11: Zone 14
A12: 0.5 | C12: 1786.6406 | D12: 1761.5813 | E12: 1982.1038 | F12: 1888.7344 | G12: 2339.9888 | H12: 2729.9869 | I12: 2060.8088 | J12: 4635.6131 | K12: 5736.1838 | L12: 3469.7025 | M12: 4749.4013 | N12: 2348.7131 | O12: 2348.7131 | P12: 2489.6025
A13: 1.0 | C13: 2215.4344 | D13: 2153.0644 | E13: 2455.2619 | F13: 2186.8481 | G13: 2940.3 | H13: 3432.3919 | I13: 2388.0656 | J13: 5920.5094 | K13: 7196.6813 | L13: 4519.7831 | M13: 5543.6906 | N13: 2696.3888 | O13: 2714.7656 | P13: 3063.9263
A14: 1.5 | C14: 2646.27 | D14: 2593.5525 | E14: 2928.42 | F14: 2484.9619 | G14: 3538.5694 | H14: 4130.7131 | I14: 2725.5319 | J14: 7199.28 | K14: 8651.0531 | L14: 5041.0181 | M14: 6340.0219 | N14: 2745.9506 | O14: 2909.3006 | P14: 3711.7575
A15: 2.0 | C15: 3077.1056 | D15: 3029.9569 | E15: 3405.6619 | F15: 2785.1175 | G15: 4134.7969 | H15: 4833.1181 | I15: 3060.9563 | J15: 8482.1344 | K15: 10107.467 | L15: 5562.2531 | M15: 7134.3113 | N15: 3077.2913 | O15: 3269.2275 | P15: 4363.6725
A16: 2.5 | C16: 3567.1556 | D16: 3470.445 | E16: 3684.8419 | F16: 3083.2313 | G16: 4363.4869 | H16: 5533.4813 | I16: 3396.3806 | J16: 9762.9469 | K16: 11563.881 | L16: 6085.53 | M16: 7930.6425 | N16: 3455.595 | O16: 3627.1125 | P16: 4560.2494
A17: 3.0 | C17: 3916.3163 | D17: 3835.3838 | E17: 4125.33 | F17: 3509.9831 | G17: 4784.1131 | H17: 6139.9181 | I17: 3848.1919 | J17: 11107.058 | K17: 13022.336 | L17: 6621.0581 | M17: 8318.5988 | N17: 3846.15 | O17: 4023.7931 | P17: 5030.4375
A18: 3.5 | C18: 4265.4769 | D18: 4200.3225 | E18: 4565.8181 | F18: 3936.735 | G18: 5204.7394 | H18: 6746.355 | I18: 4300.0031 | J18: 12451.168 | K18: 14480.792 | L18: 7156.5863 | M18: 8706.555 | N18: 4236.705 | O18: 4420.4738 | P18: 5500.6256
A19: 4.0 | C19: 4614.6375 | D19: 4565.2613 | E19: 5006.3063 | F19: 4363.4869 | G19: 5625.3656 | H19: 7352.7919 | I19: 4751.8144 | J19: 13795.279 | K19: 15939.248 | L19: 7692.1144 | M19: 9094.5113 | N19: 4627.26 | O19: 4817.1544 | P19: 5970.8138
A20: 4.5 | C20: 4963.7981 | D20: 4930.2 | E20: 5446.7944 | F20: 4790.2388 | G20: 6045.9919 | H20: 7959.2288 | I20: 5203.6256 | J20: 15139.389 | K20: 17397.703 | L20: 8227.6425 | M20: 9482.4675 | N20: 5017.815 | O20: 5213.835 | P20: 6441.0019
A21: 5.0 | C21: 5312.9588 | D21: 5295.1388 | E21: 5887.2825 | F21: 5216.9906 | G21: 6466.6181 | H21: 8565.6656 | I21: 5655.4369 | J21: 16483.5 | K21: 18856.159 | L21: 8763.1706 | M21: 9870.4238 | N21: 5408.37 | O21: 5610.5156 | P21: 6911.19
A22: 5.5 | C22: 6031.6988 | D22: 6021.4894 | E22: 6605.4656 | F22: 5672.3288 | G22: 6995.4638 | H22: 9174.1444 | I22: 5858.1394 | J22: 17701.014 | K22: 19879.695 | L22: 11979.681 | M22: 12829.101 | N22: 5707.0406 | O22: 5878.5581 | P22: 7360.9594
A23: 6.0 | C23: 6750.4388 | D23: 6747.84 | E23: 7323.6488 | F23: 6127.6669 | G23: 7524.3094 | H23: 9782.6231 | I23: 6060.8419 | J23: 18918.529 | K23: 20903.231 | L23: 15196.191 | M23: 15787.778 | N23: 6005.7113 | O23: 6146.6006 | P23: 7810.7288
... A61: 30.0 | C61: 28222.796 | D61: 27687.083 | E61: 27339.964 | F61: 24104.334 | G61: 27906.306 | H61: 37989.084 | I61: 19772.218 | J61: 68844.6 | K61: 77016.184 | L61: 80032.033 | M61: 82949.13 | N61: 23751.833 | O61: 27956.053 | P61: 31155.671
A63: Multiplier rate per 1 KG from 30.1 KG
A64: From | B64: To | C64: Zone 1 | D64: Zone 2 | E64: Zone 3 | F64: Zone 4 | G64: Zone 5 | H64: Zone 6 | I64: Zone 7 | J64: Zone 8 | K64: Zone 9 | L64: Zone 10 | M64: Zone 11 | N64: Zone 12 | O64: Zone 13 | P64: Zone 14
A65: 30.1 | B65: 50 | C65: 847.37813 | D65: 817.67813 | E65: 901.395 | F65: 784.08 | G65: 1106.6963 | H65: 1243.5019 | I65: 654.51375 | J65: 2181.8363 | K65: 1867.3875 | L65: 1338.5419 | M65: 1472.1919 | N65: 793.36125 | O65: 877.07813 | P65: 1034.3025
A66: 50.1 | B66: 70 | C66: 798.37313 | D66: 831.97125 | E66: 831.97125 | F66: 788.16375 | G66: 976.01625 | H66: 1243.5019 | I66: 603.46688 | J66: 1013.8838 | K66: 1054.7213 | L66: 1338.5419 | M66: 1472.1919 | N66: 793.36125 | O66: 862.785 | P66: 1034.3025
A67: 70.1 | B67: 100 | C67: 761.61938 | D67: 768.67313 | E67: 768.67313 | F67: 784.08 | G67: 935.17875 | H67: 1229.2088 | I67: 529.95938 | J67: 919.9575 | K67: 1013.8838 | L67: 1338.5419 | M67: 1472.1919 | N67: 795.40313 | O67: 862.785 | P67: 1034.3025
A68: 100.1 | B68: 300 | C68: 706.48875 | D68: 676.78875 | E68: 676.78875 | F68: 784.08 | G68: 837.16875 | H68: 1229.2088 | I68: 529.95938 | J68: 821.9475 | K68: 981.21375 | L68: 1338.5419 | M68: 1472.1919 | N68: 795.40313 | O68: 862.785 | P68: 1034.3025
A69: 300.1 | B69: 500 | C69: 684.02813 | D69: 654.32813 | E69: 654.32813 | F69: 784.08 | G69: 826.95938 | H69: 1229.2088 | I69: 654.51375 | J69: 785.19375 | K69: 956.71125 | L69: 1338.5419 | M69: 1472.1919 | N69: 850.53375 | O69: 862.785 | P69: 1034.3025
A70: 500.1 | B70: 99,999 | C70: 667.69313 | D70: 654.32813 | E70: 654.32813 | F70: 784.08 | G70: 798.37313 | H70: 1229.2088 | I70: 654.51375 | J70: 744.35625 | K70: 956.71125 | L70: 1338.5419 | M70: 1472.1919 | N70: 850.53375 | O70: 862.785 | P70: 1034.3025
A72: Terms & Conditions :
A73: 1) Address correction if any will be charged Rs. 1200 extra per HWAB.
A74: 2) Non - DOX clearance in Bangladesh is subject to Consignee Request
A75: 3) Fuel Surcharge (FSC) will be charged extra on the above mentioned rates.
A76: 4) GST - As per specified rates in force
A77: 5) All mentioned Rates are EX-Mumbai HUB
A78: 6) Actual or Volumetric weight whichever is higher will be charged .
A79: 7) Volumetric formula (LxBxH)/5000 in cms.
A80: 8) Destination duties and taxes to be paid by consignee, if consignee fails to pay then it will billed back to shipper.
A81: 9) Rs.3500 INR additional charges for chemical / Pharma shipments received without ADC NOC
...

Sheet WITH FUEL SURCHARGE
A1: UNITED EXPRESS | I1: WEF 01/01/2022 TILL 31/12/2022
A3: Documents up to 2.0 KG
A4: KG | C4: Zone 1 | D4: Zone 2 | E4: Zone 3 | F4: Zone 4 | G4: Zone 5 | H4: Zone 6 | I4: Zone 7 | J4: Zone 8 | K4: Zone 9 | L4: Zone 10 | M4: Zone 11 | N4: Zone 12 | O4: Zone 13 | P4: Zone 14
A5: 0.5 | C5: ='BASIC RATES'!C5*137.5% -> 2375.2111 | D5: ='BASIC RATES'!D5*137.5% -> 2442.0825 | E5: ='BASIC RATES'!E5*137.5% -> 2725.3927 | F5: ='BASIC RATES'!F5*137.5% -> 2456.6309 | G5: ='BASIC RATES'!G5*137.5% -> 3383.1316 | H5: ='BASIC RATES'!H5*137.5% -> 3753.732 | I5: ='BASIC RATES'!I5*137.5% -> 2813.959 | J5: ='BASIC RATES'!J5*137.5% -> 5099.3276 | ... P5: ='BASIC RATES'!P5*137.5% -> 3423.2034
A6: 1.0 | C6: ='BASIC RATES'!C6*137.5% -> 3046.2223 | D6: ='BASIC RATES'!D6*137.5% -> 2991.3469 | E6: ='BASIC RATES'!E6*137.5% -> 3283.335 | F6: ='BASIC RATES'!F6*137.5% -> 3046.2223 | G6: ='BASIC RATES'!G6*137.5% -> 4222.5975 | H6: ='BASIC RATES'!H6*137.5% -> 4719.5388 | I6: ='BASIC RATES'!I6*137.5% -> 3266.7448 | J6: ='BASIC RATES'!J6*137.5% -> 6610.5703 | ... P6: ='BASIC RATES'!P6*137.5% -> 4212.8986
A7: 1.5 | C7: ='BASIC RATES'!C7*137.5% -> 3579.6621 | D7: ='BASIC RATES'!D7*137.5% -> 3549.2892 | E7: ='BASIC RATES'!E7*137.5% -> 3981.6562 | F7: ='BASIC RATES'!F7*137.5% -> 3579.6621 | G7: ='BASIC RATES'!G7*137.5% -> 4994.6815 | H7: ='BASIC RATES'!H7*137.5% -> 5679.7305 | I7: ='BASIC RATES'!I7*137.5% -> 3730.7609 | J7: ='BASIC RATES'!J7*137.5% -> 8119.0055 | ... P7: ='BASIC RATES'!P7*137.5% -> 5103.6666
A8: 2.0 | C8: ='BASIC RATES'!C8*137.5% -> 4110.2944 | D8: ='BASIC RATES'!D8*137.5% -> 4110.0391 | E8: ='BASIC RATES'!E8*137.5% -> 4682.7851 | F8: ='BASIC RATES'!F8*137.5% -> 4110.2944 | G8: ='BASIC RATES'!G8*137.5% -> 5769.573 | H8: ='BASIC RATES'!H8*137.5% -> 6645.5374 | I8: ='BASIC RATES'!I8*137.5% -> 4189.1618 | J8: ='BASIC RATES'!J8*137.5% -> 9633.0558 | ... P8: ='BASIC RATES'!P8*137.5% -> 6000.0497
A10: Non-documents from 0.5 KG & Documents from 2.5 KG
A11: KG | C11: Zone 1 | D11: Zone 2 | E11: Zone 3 | F11: Zone 4 | G11: Zone 5 | H11: Zone 6 | I11: Zone 7 | J11: Zone 8 | K11: Zone 9 | L11: Zone 10 | M11: Zone 11 | N11: Zone 12 | O11: Zone 13 | P11: Zone 14
A12: 0.5 | C12: ='BASIC RATES'!C12*137.5% -> 2456.6309 | D12: ='BASIC RATES'!D12*137.5% -> 2422.1742 | E12: ='BASIC RATES'!E12*137.5% -> 2725.3927 | F12: ='BASIC RATES'!F12*137.5% -> 2597.0098 | G12: ='BASIC RATES'!G12*137.5% -> 3217.4845 | H12: ='BASIC RATES'!H12*137.5% -> 3753.732 | I12: ='BASIC RATES'!I12*137.5% -> 2833.612 | J12: ='BASIC RATES'!J12*137.5% -> 6373.968 | ... P12: ='BASIC RATES'!P12*137.5% -> 3423.2034
A13: 1.0 | C13: ='BASIC RATES'!C13*137.5% -> 3046.2223 | D13: ='BASIC RATES'!D13*137.5% -> 2960.4635 | E13: ='BASIC RATES'!E13*137.5% -> 3375.9851 | F13: ='BASIC RATES'!F13*137.5% -> 3006.9162 | G13: ='BASIC RATES'!G13*137.5% -> 4042.9125 | H13: ='BASIC RATES'!H13*137.5% -> 4719.5388 | I13: ='BASIC RATES'!I13*137.5% -> 3283.5902 | J13: ='BASIC RATES'!J13*137.5% -> 8140.7004 | ... P13: ='BASIC RATES'!P13*137.5% -> 4212.8986
A14: 1.5 | C14: ='BASIC RATES'!C14*137.5% -> 3638.6213 | D14: ='BASIC RATES'!D14*137.5% -> 3566.1347 | E14: ='BASIC RATES'!E14*137.5% -> 4026.5775 | F14: ='BASIC RATES'!F14*137.5% -> 3416.8226 | G14: ='BASIC RATES'!G14*137.5% -> 4865.5329 | H14: ='BASIC RATES'!H14*137.5% -> 5679.7305 | I14: ='BASIC RATES'!I14*137.5% -> 3747.6063 | J14: ='BASIC RATES'!J14*137.5% -> 9899.01 | ... P14: ='BASIC RATES'!P14*137.5% -> 5103.6666
A15: 2.0 | C15: ='BASIC RATES'!C15*137.5% -> 4231.0202 | D15: ='BASIC RATES'!D15*137.5% -> 4166.1907 | E15: ='BASIC RATES'!E15*137.5% -> 4682.7851 | F15: ='BASIC RATES'!F15*137.5% -> 3829.5366 | G15: ='BASIC RATES'!G15*137.5% -> 5685.3457 | H15: ='BASIC RATES'!H15*137.5% -> 6645.5374 | I15: ='BASIC RATES'!I15*137.5% -> 4208.8148 | J15: ='BASIC RATES'!J15*137.5% -> 11662.935 | ... P15: ='BASIC RATES'!P15*137.5% -> 6000.0497
A16: 2.5 | C16: ='BASIC RATES'!C16*137.5% -> 4904.839 | D16: ='BASIC RATES'!D16*137.5% -> 4771.8619 | E16: ='BASIC RATES'!E16*137.5% -> 5066.6576 | F16: ='BASIC RATES'!F16*137.5% -> 4239.443 | G16: ='BASIC RATES'!G16*137.5% -> 5999.7945 | H16: ='BASIC RATES'!H16*137.5% -> 7608.5367 | I16: ='BASIC RATES'!I16*137.5% -> 4670.0234 | J16: ='BASIC RATES'!J16*137.5% -> 13424.052 | ... P16: ='BASIC RATES'!P16*137.5% -> 6270.3429
A17: 3.0 | C17: ='BASIC RATES'!C17*137.5% -> 5384.9348 | D17: ='BASIC RATES'!D17*137.5% -> 5273.6527 | E17: ='BASIC RATES'!E17*137.5% -> 5672.3288 | F17: ='BASIC RATES'!F17*137.5% -> 4826.2268 | G17: ='BASIC RATES'!G17*137.5% -> 6578.1555 | H17: ='BASIC RATES'!H17*137.5% -> 8442.3874 | I17: ='BASIC RATES'!I17*137.5% -> 5291.2638 | J17: ='BASIC RATES'!J17*137.5% -> 15272.204 | ... P17: ='BASIC RATES'!P17*137.5% -> 6916.8516
A18: 3.5 | C18: ='BASIC RATES'!C18*137.5% -> 5865.0307 | D18: ='BASIC RATES'!D18*137.5% -> 5775.4434 | E18: ='BASIC RATES'!E18*137.5% -> 6277.9999 | F18: ='BASIC RATES'!F18*137.5% -> 5413.0106 | G18: ='BASIC RATES'!G18*137.5% -> 7156.5166 | H18: ='BASIC RATES'!H18*137.5% -> 9276.2381 | I18: ='BASIC RATES'!I18*137.5% -> 5912.5043 | J18: ='BASIC RATES'!J18*137.5% -> 17120.356 | ... P18: ='BASIC RATES'!P18*137.5% -> 7563.3602
A19: 4.0 | C19: ='BASIC RATES'!C19*137.5% -> 6345.1266 | D19: ='BASIC RATES'!D19*137.5% -> 6277.2342 | E19: ='BASIC RATES'!E19*137.5% -> 6883.6711 | F19: ='BASIC RATES'!F19*137.5% -> 5999.7945 | G19: ='BASIC RATES'!G19*137.5% -> 7734.8777 | H19: ='BASIC RATES'!H19*137.5% -> 10110.089 | I19: ='BASIC RATES'!I19*137.5% -> 6533.7448 | J19: ='BASIC RATES'!J19*137.5% -> 18968.508 | ... P19: ='BASIC RATES'!P19*137.5% -> 8209.8689
A20: 4.5 | C20: ='BASIC RATES'!C20*137.5% -> 6825.2224 | D20: ='BASIC RATES'!D20*137.5% -> 6779.025 | E20: ='BASIC RATES'!E20*137.5% -> 7489.3423 | F20: ='BASIC RATES'!F20*137.5% -> 6586.5783 | G20: ='BASIC RATES'!G20*137.5% -> 8313.2388 | H20: ='BASIC RATES'!H20*137.5% -> 10943.94 | I20: ='BASIC RATES'!I20*137.5% -> 7154.9852 | J20: ='BASIC RATES'!J20*137.5% -> 20816.66 | ... P20: ='BASIC RATES'!P20*137.5% -> 8856.3776
A21: 5.0 | C21: ='BASIC RATES'!C21*137.5% -> 7305.3183 | D21: ='BASIC RATES'!D21*137.5% -> 7280.8158 | E21: ='BASIC RATES'!E21*137.5% -> 8095.0134 | F21: ='BASIC RATES'!F21*137.5% -> 7173.3621 | G21: ='BASIC RATES'!G21*137.5% -> 8891.5999 | H21: ='BASIC RATES'!H21*137.5% -> 11777.79 | I21: ='BASIC RATES'!I21*137.5% -> 7776.2257 | J21: ='BASIC RATES'!J21*137.5% -> 22664.813 | ... P21: ='BASIC RATES'!P21*137.5% -> 9502.8863
A22: 5.5 | C22: ='BASIC RATES'!C22*137.5% -> 8293.5858 | D22: ='BASIC RATES'!D22*137.5% -> 8279.5479 | E22: ='BASIC RATES'!E22*137.5% -> 9082.5152 | F22: ='BASIC RATES'!F22*137.5% -> 7799.452 | G22: ='BASIC RATES'!G22*137.5% -> 9618.7627 | H22: ='BASIC RATES'!H22*137.5% -> 12614.449 | I22: ='BASIC RATES'!I22*137.5% -> 8054.9416 | J22: ='BASIC RATES'!J22*137.5% -> 24338.895 | ... P22: ='BASIC RATES'!P22*137.5% -> 10121.319
A23: 6.0 | C23: ='BASIC RATES'!C23*137.5% -> 9281.8533 | D23: ='BASIC RATES'!D23*137.5% -> 9278.28 | E23: ='BASIC RATES'!E23*137.5% -> 10070.017 | F23: ='BASIC RATES'!F23*137.5% -> 8425.542 | G23: ='BASIC RATES'!G23*137.5% -> 10345.925 | H23: ='BASIC RATES'!H23*137.5% -> 13451.107 | I23: ='BASIC RATES'!I23*137.5% -> 8333.6576 | J23: ='BASIC RATES'!J23*137.5% -> 26012.977 | ... P23: ='BASIC RATES'!P23*137.5% -> 10739.752
... A61: 30.0 | C61: ='BASIC RATES'!C61*137.5% -> 38806.345 | D61: ='BASIC RATES'!D61*137.5% -> 38069.738 | E61: ='BASIC RATES'!E61*137.5% -> 37592.45 | F61: ='BASIC RATES'!F61*137.5% -> 33143.46 | G61: ='BASIC RATES'!G61*137.5% -> 38371.17 | H61: ='BASIC RATES'!H61*137.5% -> 52234.991 | I61: ='BASIC RATES'!I61*137.5% -> 27186.8 | J61: ='BASIC RATES'!J61*137.5% -> 94661.325 | ... P61: ='BASIC RATES'!P61*137.5% -> 42839.048
A63: Multiplier rate per 1 KG from 30.1 KG
A64: From | B64: To | C64: Zone 1 | D64: Zone 2 | E64: Zone 3 | F64: Zone 4 | G64: Zone 5 | H64: Zone 6 | I64: Zone 7 | J64: Zone 8 | K64: Zone 9 | L64: Zone 10 | M64: Zone 11 | N64: Zone 12 | O64: Zone 13 | P64: Zone 14
A65: 30.1 | B65: 50 | C65: ='BASIC RATES'!C65*137.5% -> 1165.1449 | D65: ='BASIC RATES'!D65*137.5% -> 1124.3074 | E65: ='BASIC RATES'!E65*137.5% -> 1239.4181 | F65: ='BASIC RATES'!F65*137.5% -> 1078.11 | G65: ='BASIC RATES'!G65*137.5% -> 1521.7073 | H65: ='BASIC RATES'!H65*137.5% -> 1709.8151 | I65: ='BASIC RATES'!I65*137.5% -> 899.95641 | J65: ='BASIC RATES'!J65*137.5% -> 3000.0248 | ... P65: ='BASIC RATES'!P65*137.5% -> 1422.1659
A66: 50.1 | B66: 70 | C66: ='BASIC RATES'!C66*137.5% -> 1097.763 | D66: ='BASIC RATES'!D66*137.5% -> 1143.9605 | E66: ='BASIC RATES'!E66*137.5% -> 1143.9605 | F66: ='BASIC RATES'!F66*137.5% -> 1083.7252 | G66: ='BASIC RATES'!G66*137.5% -> 1342.0223 | H66: ='BASIC RATES'!H66*137.5% -> 1709.8151 | I66: ='BASIC RATES'!I66*137.5% -> 829.76695 | J66: ='BASIC RATES'!J66*137.5% -> 1394.0902 | ... P66: ='BASIC RATES'!P66*137.5% -> 1422.1659
A67: 70.1 | B67: 100 | C67: ='BASIC RATES'!C67*137.5% -> 1047.2266 | D67: ='BASIC RATES'!D67*137.5% -> 1056.9255 | E67: ='BASIC RATES'!E67*137.5% -> 1056.9255 | F67: ='BASIC RATES'!F67*137.5% -> 1078.11 | G67: ='BASIC RATES'!G67*137.5% -> 1285.8708 | H67: ='BASIC RATES'!H67*137.5% -> 1690.162 | I67: ='BASIC RATES'!I67*137.5% -> 728.69414 | J67: ='BASIC RATES'!J67*137.5% -> 1264.9416 | ... P67: ='BASIC RATES'!P67*137.5% -> 1422.1659
A68: 100.1 | B68: 300 | C68: ='BASIC RATES'!C68*137.5% -> 971.42203 | D68: ='BASIC RATES'!D68*137.5% -> 930.58453 | E68: ='BASIC RATES'!E68*137.5% -> 930.58453 | F68: ='BASIC RATES'!F68*137.5% -> 1078.11 | G68: ='BASIC RATES'!G68*137.5% -> 1151.107 | H68: ='BASIC RATES'!H68*137.5% -> 1690.162 | I68: ='BASIC RATES'!I68*137.5% -> 728.69414 | J68: ='BASIC RATES'!J68*137.5% -> 1130.1778 | ... P68: ='BASIC RATES'!P68*137.5% -> 1422.1659
A69: 300.1 | B69: 500 | C69: ='BASIC RATES'!C69*137.5% -> 940.53867 | D69: ='BASIC RATES'!D69*137.5% -> 899.70117 | E69: ='BASIC RATES'!E69*137.5% -> 899.70117 | F69: ='BASIC RATES'!F69*137.5% -> 1078.11 | G69: ='BASIC RATES'!G69*137.5% -> 1137.0691 | H69: ='BASIC RATES'!H69*137.5% -> 1690.162 | I69: ='BASIC RATES'!I69*137.5% -> 899.95641 | J69: ='BASIC RATES'!J69*137.5% -> 1079.6414 | ... P69: ='BASIC RATES'!P69*137.5% -> 1422.1659
A70: 500.1 | B70: 99,999 | C70: ='BASIC RATES'!C70*137.5% -> 918.07805 | D70: ='BASIC RATES'!D70*137.5% -> 899.70117 | E70: ='BASIC RATES'!E70*137.5% -> 899.70117 | F70: ='BASIC RATES'!F70*137.5% -> 1078.11 | G70: ='BASIC RATES'!G70*137.5% -> 1097.763 | H70: ='BASIC RATES'!H70*137.5% -> 1690.162 | I70: ='BASIC RATES'!I70*137.5% -> 899.95641 | J70: ='BASIC RATES'!J70*137.5% -> 1023.4898 | ... P70: ='BASIC RATES'!P70*137.5% -> 1422.1659
A72: Terms & Conditions :
A73: 1) Address correction if any will be charged Rs. 1200 extra per HWAB.
A74: 2) Non - DOX clearance in Bangladesh is subject to Consignee Request
A75: 3) GST - As per specified rates in force
A76: 4) All mentioned Rates are EX-Mumbai HUB
A77: 5) Actual or Volumetric weight whichever is higher will be charged .
A78: 6) Volumetric formula (LxBxH)/5000 in cms.
A79: 7) Destination duties and taxes to be paid by consignee, if consignee fails to pay then it will billed back to shipper.
A80: 8) Rs.3500 INR additional charges for chemical / Pharma shipments received without ADC NOC
A81: 9) Remote area surcharge of Rs.2500++ or Rs.40/kg++ whichever is higher applicable for remote area shipments.
...

Sheet WITH GST
A1: UNITED EXPRESS | I1: WEF 01/01/2022 TILL 31/12/2022
A3: Documents up to 2.0 KG
A4: KG | C4: Zone 1 | D4: Zone 2 | E4: Zone 3 | F4: Zone 4 | G4: Zone 5 | H4: Zone 6 | I4: Zone 7 | J4: Zone 8 | K4: Zone 9 | L4: Zone 10 | M4: Zone 11 | N4: Zone 12 | O4: Zone 13 | P4: Zone 14
A5: 0.5 | C5: ='WITH FUEL SURCHARGE'!C5*118% -> 2802.7491 | D5: ='WITH FUEL SURCHARGE'!D5*118% -> 2881.6574 | E5: ='WITH FUEL SURCHARGE'!E5*118% -> 3215.9633 | F5: ='WITH FUEL SURCHARGE'!F5*118% -> 2898.8244 | G5: ='WITH FUEL SURCHARGE'!G5*118% -> 3992.0953 | H5: ='WITH FUEL SURCHARGE'!H5*118% -> 4429.4037 | I5: ='WITH FUEL SURCHARGE'!I5*118% -> 3320.4716 | J5: ='WITH FUEL SURCHARGE'!J5*118% -> 6017.2065 | ... P5: ='WITH FUEL SURCHARGE'!P5*118% -> 4039.3801
A6: 1.0 | C6: ='WITH FUEL SURCHARGE'!C6*118% -> 3594.5423 | D6: ='WITH FUEL SURCHARGE'!D6*118% -> 3529.7893 | E6: ='WITH FUEL SURCHARGE'!E6*118% -> 3874.3353 | F6: ='WITH FUEL SURCHARGE'!F6*118% -> 3594.5423 | G6: ='WITH FUEL SURCHARGE'!G6*118% -> 4982.6651 | H6: ='WITH FUEL SURCHARGE'!H6*118% -> 5569.0558 | I6: ='WITH FUEL SURCHARGE'!I6*118% -> 3854.7588 | J6: ='WITH FUEL SURCHARGE'!J6*118% -> 7800.473 | ... P6: ='WITH FUEL SURCHARGE'!P6*118% -> 4971.2203
A7: 1.5 | C7: ='WITH FUEL SURCHARGE'!C7*118% -> 4224.0013 | D7: ='WITH FUEL SURCHARGE'!D7*118% -> 4188.1613 | E7: ='WITH FUEL SURCHARGE'!E7*118% -> 4698.3544 | F7: ='WITH FUEL SURCHARGE'!F7*118% -> 4224.0013 | G7: ='WITH FUEL SURCHARGE'!G7*118% -> 5893.7242 | H7: ='WITH FUEL SURCHARGE'!H7*118% -> 6702.082 | I7: ='WITH FUEL SURCHARGE'!I7*118% -> 4402.2978 | J7: ='WITH FUEL SURCHARGE'!J7*118% -> 9580.4265 | ... P7: ='WITH FUEL SURCHARGE'!P7*118% -> 6022.3265
A8: 2.0 | C8: ='WITH FUEL SURCHARGE'!C8*118% -> 4850.1474 | D8: ='WITH FUEL SURCHARGE'!D8*118% -> 4849.8462 | E8: ='WITH FUEL SURCHARGE'!E8*118% -> 5525.6864 | F8: ='WITH FUEL SURCHARGE'!F8*118% -> 4850.1474 | G8: ='WITH FUEL SURCHARGE'!G8*118% -> 6808.0962 | H8: ='WITH FUEL SURCHARGE'!H8*118% -> 7841.7342 | I8: ='WITH FUEL SURCHARGE'!I8*118% -> 4943.2109 | J8: ='WITH FUEL SURCHARGE'!J8*118% -> 11367.006 | ... P8: ='WITH FUEL SURCHARGE'!P8*118% -> 7080.0586
A10: Non-documents from 0.5 KG & Documents from 2.5 KG
A11: KG | C11: Zone 1 | D11: Zone 2 | E11: Zone 3 | F11: Zone 4 | G11: Zone 5 | H11: Zone 6 | I11: Zone 7 | J11: Zone 8 | K11: Zone 9 | L11: Zone 10 | M11: Zone 11 | N11: Zone 12 | O11: Zone 13 | P11: Zone 14
A12: 0.5 | C12: ='WITH FUEL SURCHARGE'!C12*118% -> 2898.8244 | D12: ='WITH FUEL SURCHARGE'!D12*118% -> 2858.1656 | E12: ='WITH FUEL SURCHARGE'!E12*118% -> 3215.9633 | F12: ='WITH FUEL SURCHARGE'!F12*118% -> 3064.4715 | G12: ='WITH FUEL SURCHARGE'!G12*118% -> 3796.6317 | H12: ='WITH FUEL SURCHARGE'!H12*118% -> 4429.4037 | I12: ='WITH FUEL SURCHARGE'!I12*118% -> 3343.6622 | J12: ='WITH FUEL SURCHARGE'!J12*118% -> 7521.2823 | ... P12: ='WITH FUEL SURCHARGE'!P12*118% -> 4039.3801
A13: 1.0 | C13: ='WITH FUEL SURCHARGE'!C13*118% -> 3594.5423 | D13: ='WITH FUEL SURCHARGE'!D13*118% -> 3493.3469 | E13: ='WITH FUEL SURCHARGE'!E13*118% -> 3983.6624 | F13: ='WITH FUEL SURCHARGE'!F13*118% -> 3548.1611 | G13: ='WITH FUEL SURCHARGE'!G13*118% -> 4770.6368 | H13: ='WITH FUEL SURCHARGE'!H13*118% -> 5569.0558 | I13: ='WITH FUEL SURCHARGE'!I13*118% -> 3874.6365 | J13: ='WITH FUEL SURCHARGE'!J13*118% -> 9606.0265 | ... P13: ='WITH FUEL SURCHARGE'!P13*118% -> 4971.2203
A14: 1.5 | C14: ='WITH FUEL SURCHARGE'!C14*118% -> 4293.5731 | D14: ='WITH FUEL SURCHARGE'!D14*118% -> 4208.0389 | E14: ='WITH FUEL SURCHARGE'!E14*118% -> 4751.3615 | F14: ='WITH FUEL SURCHARGE'!F14*118% -> 4031.8506 | G14: ='WITH FUEL SURCHARGE'!G14*118% -> 5741.3288 | H14: ='WITH FUEL SURCHARGE'!H14*118% -> 6702.082 | I14: ='WITH FUEL SURCHARGE'!I14*118% -> 4422.1755 | J14: ='WITH FUEL SURCHARGE'!J14*118% -> 11680.832 | ... P14: ='WITH FUEL SURCHARGE'!P14*118% -> 6022.3265
A15: 2.0 | C15: ='WITH FUEL SURCHARGE'!C15*118% -> 4992.6039 | D15: ='WITH FUEL SURCHARGE'!D15*118% -> 4916.105 | E15: ='WITH FUEL SURCHARGE'!E15*118% -> 5525.6864 | F15: ='WITH FUEL SURCHARGE'!F15*118% -> 4518.8531 | G15: ='WITH FUEL SURCHARGE'!G15*118% -> 6708.7079 | H15: ='WITH FUEL SURCHARGE'!H15*118% -> 7841.7342 | I15: ='WITH FUEL SURCHARGE'!I15*118% -> 4966.4015 | J15: ='WITH FUEL SURCHARGE'!J15*118% -> 13762.263 | ... P15: ='WITH FUEL SURCHARGE'!P15*118% -> 7080.0586
A16: 2.5 | C16: ='WITH FUEL SURCHARGE'!C16*118% -> 5787.71 | D16: ='WITH FUEL SURCHARGE'!D16*118% -> 5630.797 | E16: ='WITH FUEL SURCHARGE'!E16*118% -> 5978.6559 | F16: ='WITH FUEL SURCHARGE'!F16*118% -> 5002.5427 | G16: ='WITH FUEL SURCHARGE'!G16*118% -> 7079.7575 | H16: ='WITH FUEL SURCHARGE'!H16*118% -> 8978.0733 | I16: ='WITH FUEL SURCHARGE'!I16*118% -> 5510.6276 | J16: ='WITH FUEL SURCHARGE'!J16*118% -> 15840.381 | ... P16: ='WITH FUEL SURCHARGE'!P16*118% -> 7399.0046
A17: 3.0 | C17: ='WITH FUEL SURCHARGE'!C17*118% -> 6354.2231 | D17: ='WITH FUEL SURCHARGE'!D17*118% -> 6222.9101 | E17: ='WITH FUEL SURCHARGE'!E17*118% -> 6693.3479 | F17: ='WITH FUEL SURCHARGE'!F17*118% -> 5694.9476 | G17: ='WITH FUEL SURCHARGE'!G17*118% -> 7762.2235 | H17: ='WITH FUEL SURCHARGE'!H17*118% -> 9962.0172 | I17: ='WITH FUEL SURCHARGE'!I17*118% -> 6243.6913 | J17: ='WITH FUEL SURCHARGE'!J17*118% -> 18021.201 | ... P17: ='WITH FUEL SURCHARGE'!P17*118% -> 8161.8848
A18: 3.5 | C18: ='WITH FUEL SURCHARGE'!C18*118% -> 6920.7362 | D18: ='WITH FUEL SURCHARGE'!D18*118% -> 6815.0233 | E18: ='WITH FUEL SURCHARGE'!E18*118% -> 7408.0399 | F18: ='WITH FUEL SURCHARGE'!F18*118% -> 6387.3525 | G18: ='WITH FUEL SURCHARGE'!G18*118% -> 8444.6896 | H18: ='WITH FUEL SURCHARGE'!H18*118% -> 10945.961 | I18: ='WITH FUEL SURCHARGE'!I18*118% -> 6976.7551 | J18: ='WITH FUEL SURCHARGE'!J18*118% -> 20202.02 | ... P18: ='WITH FUEL SURCHARGE'!P18*118% -> 8924.7651
A19: 4.0 | C19: ='WITH FUEL SURCHARGE'!C19*118% -> 7487.2493 | D19: ='WITH FUEL SURCHARGE'!D19*118% -> 7407.1364 | E19: ='WITH FUEL SURCHARGE'!E19*118% -> 8122.7319 | F19: ='WITH FUEL SURCHARGE'!F19*118% -> 7079.7575 | G19: ='WITH FUEL SURCHARGE'!G19*118% -> 9127.1557 | H19: ='WITH FUEL SURCHARGE'!H19*118% -> 11929.905 | I19: ='WITH FUEL SURCHARGE'!I19*118% -> 7709.8188 | J19: ='WITH FUEL SURCHARGE'!J19*118% -> 22382.84 | ... P19: ='WITH FUEL SURCHARGE'!P19*118% -> 9687.6453
A20: 4.5 | C20: ='WITH FUEL SURCHARGE'!C20*118% -> 8053.7625 | D20: ='WITH FUEL SURCHARGE'!D20*118% -> 7999.2495 | E20: ='WITH FUEL SURCHARGE'!E20*118% -> 8837.4239 | F20: ='WITH FUEL SURCHARGE'!F20*118% -> 7772.1624 | G20: ='WITH FUEL SURCHARGE'!G20*118% -> 9809.6218 | H20: ='WITH FUEL SURCHARGE'!H20*118% -> 12913.849 | I20: ='WITH FUEL SURCHARGE'!I20*118% -> 8442.8826 | J20: ='WITH FUEL SURCHARGE'!J20*118% -> 24563.659 | ... P20: ='WITH FUEL SURCHARGE'!P20*118% -> 10450.526
A21: 5.0 | C21: ='WITH FUEL SURCHARGE'!C21*118% -> 8620.2756 | D21: ='WITH FUEL SURCHARGE'!D21*118% -> 8591.3626 | E21: ='WITH FUEL SURCHARGE'!E21*118% -> 9552.1159 | F21: ='WITH FUEL SURCHARGE'!F21*118% -> 8464.5673 | G21: ='WITH FUEL SURCHARGE'!G21*118% -> 10492.088 | H21: ='WITH FUEL SURCHARGE'!H21*118% -> 13897.792 | I21: ='WITH FUEL SURCHARGE'!I21*118% -> 9175.9463 | J21: ='WITH FUEL SURCHARGE'!J21*118% -> 26744.479 | ... P21: ='WITH FUEL SURCHARGE'!P21*118% -> 11213.406
A22: 5.5 | C22: ='WITH FUEL SURCHARGE'!C22*118% -> 9786.4312 | D22: ='WITH FUEL SURCHARGE'!D22*118% -> 9769.8665 | E22: ='WITH FUEL SURCHARGE'!E22*118% -> 10717.368 | F22: ='WITH FUEL SURCHARGE'!F22*118% -> 9203.3534 | G22: ='WITH FUEL SURCHARGE'!G22*118% -> 11350.14 | H22: ='WITH FUEL SURCHARGE'!H22*118% -> 14885.049 | I22: ='WITH FUEL SURCHARGE'!I22*118% -> 9504.8311 | J22: ='WITH FUEL SURCHARGE'!J22*118% -> 28719.896 | ... P22: ='WITH FUEL SURCHARGE'!P22*118% -> 11943.157
A23: 6.0 | C23: ='WITH FUEL SURCHARGE'!C23*118% -> 10952.587 | D23: ='WITH FUEL SURCHARGE'!D23*118% -> 10948.37 | E23: ='WITH FUEL SURCHARGE'!E23*118% -> 11882.62 | F23: ='WITH FUEL SURCHARGE'!F23*118% -> 9942.1395 | G23: ='WITH FUEL SURCHARGE'!G23*118% -> 12208.192 | H23: ='WITH FUEL SURCHARGE'!H23*118% -> 15872.306 | I23: ='WITH FUEL SURCHARGE'!I23*118% -> 9833.7159 | J23: ='WITH FUEL SURCHARGE'!J23*118% -> 30695.313 | ... P23: ='WITH FUEL SURCHARGE'!P23*118% -> 12672.907
... A61: 30.0 | C61: ='WITH FUEL SURCHARGE'!C61*118% -> 45791.487 | D61: ='WITH FUEL SURCHARGE'!D61*118% -> 44922.291 | E61: ='WITH FUEL SURCHARGE'!E61*118% -> 44359.091 | F61: ='WITH FUEL SURCHARGE'!F61*118% -> 39109.283 | G61: ='WITH FUEL SURCHARGE'!G61*118% -> 45277.981 | H61: ='WITH FUEL SURCHARGE'!H61*118% -> 61637.289 | I61: ='WITH FUEL SURCHARGE'!I61*118% -> 32080.424 | J61: ='WITH FUEL SURCHARGE'!J61*118% -> 111700.36 | ... P61: ='WITH FUEL SURCHARGE'!P61*118% -> 50550.077
A63: Multiplier rate per 1 KG from 30.1 KG
A64: From | B64: To | C64: Zone 1 | D64: Zone 2 | E64: Zone 3 | F64: Zone 4 | G64: Zone 5 | H64: Zone 6 | I64: Zone 7 | J64: Zone 8 | K64: Zone 9 | L64: Zone 10 | M64: Zone 11 | N64: Zone 12 | O64: Zone 13 | P64: Zone 14
A65: 30.1 | B65: 50 | C65: ='WITH FUEL SURCHARGE'!C65*118% -> 1374.871 | D65: ='WITH FUEL SURCHARGE'!D65*118% -> 1326.6828 | E65: ='WITH FUEL SURCHARGE'!E65*118% -> 1462.5134 | F65: ='WITH FUEL SURCHARGE'!F65*118% -> 1272.1698 | G65: ='WITH FUEL SURCHARGE'!G65*118% -> 1795.6147 | H65: ='WITH FUEL SURCHARGE'!H65*118% -> 2017.5818 | I65: ='WITH FUEL SURCHARGE'!I65*118% -> 1061.9486 | J65: ='WITH FUEL SURCHARGE'!J65*118% -> 3540.0293 | ... P65: ='WITH FUEL SURCHARGE'!P65*118% -> 1678.1558
A66: 50.1 | B66: 70 | C66: ='WITH FUEL SURCHARGE'!C66*118% -> 1295.3604 | D66: ='WITH FUEL SURCHARGE'!D66*118% -> 1349.8734 | E66: ='WITH FUEL SURCHARGE'!E66*118% -> 1349.8734 | F66: ='WITH FUEL SURCHARGE'!F66*118% -> 1278.7957 | G66: ='WITH FUEL SURCHARGE'!G66*118% -> 1583.5864 | H66: ='WITH FUEL SURCHARGE'!H66*118% -> 2017.5818 | I66: ='WITH FUEL SURCHARGE'!I66*118% -> 979.125 | J66: ='WITH FUEL SURCHARGE'!J66*118% -> 1645.0264 | ... P66: ='WITH FUEL SURCHARGE'!P66*118% -> 1678.1558
A67: 70.1 | B67: 100 | C67: ='WITH FUEL SURCHARGE'!C67*118% -> 1235.7274 | D67: ='WITH FUEL SURCHARGE'!D67*118% -> 1247.1721 | E67: ='WITH FUEL SURCHARGE'!E67*118% -> 1247.1721 | F67: ='WITH FUEL SURCHARGE'!F67*118% -> 1272.1698 | G67: ='WITH FUEL SURCHARGE'!G67*118% -> 1517.3275 | H67: ='WITH FUEL SURCHARGE'!H67*118% -> 1994.3912 | I67: ='WITH FUEL SURCHARGE'!I67*118% -> 859.85909 | J67: ='WITH FUEL SURCHARGE'!J67*118% -> 1492.631 | ... P67: ='WITH FUEL SURCHARGE'!P67*118% -> 1678.1558
A68: 100.1 | B68: 300 | C68: ='WITH FUEL SURCHARGE'!C68*118% -> 1146.278 | D68: ='WITH FUEL SURCHARGE'!D68*118% -> 1098.0897 | E68: ='WITH FUEL SURCHARGE'!E68*118% -> 1098.0897 | F68: ='WITH FUEL SURCHARGE'!F68*118% -> 1272.1698 | G68: ='WITH FUEL SURCHARGE'!G68*118% -> 1358.3063 | H68: ='WITH FUEL SURCHARGE'!H68*118% -> 1994.3912 | I68: ='WITH FUEL SURCHARGE'!I68*118% -> 859.85909 | J68: ='WITH FUEL SURCHARGE'!J68*118% -> 1333.6098 | ... P68: ='WITH FUEL SURCHARGE'!P68*118% -> 1678.1558
A69: 300.1 | B69: 500 | C69: ='WITH FUEL SURCHARGE'!C69*118% -> 1109.8356 | D69: ='WITH FUEL SURCHARGE'!D69*118% -> 1061.6474 | E69: ='WITH FUEL SURCHARGE'!E69*118% -> 1061.6474 | F69: ='WITH FUEL SURCHARGE'!F69*118% -> 1272.1698 | G69: ='WITH FUEL SURCHARGE'!G69*118% -> 1341.7416 | H69: ='WITH FUEL SURCHARGE'!H69*118% -> 1994.3912 | I69: ='WITH FUEL SURCHARGE'!I69*118% -> 1061.9486 | J69: ='WITH FUEL SURCHARGE'!J69*118% -> 1273.9769 | ... P69: ='WITH FUEL SURCHARGE'!P69*118% -> 1678.1558
A70: 500.1 | B70: 99,999 | C70: ='WITH FUEL SURCHARGE'!C70*118% -> 1083.3321 | D70: ='WITH FUEL SURCHARGE'!D70*118% -> 1061.6474 | E70: ='WITH FUEL SURCHARGE'!E70*118% -> 1061.6474 | F70: ='WITH FUEL SURCHARGE'!F70*118% -> 1272.1698 | G70: ='WITH FUEL SURCHARGE'!G70*118% -> 1295.3604 | H70: ='WITH FUEL SURCHARGE'!H70*118% -> 1994.3912 | I70: ='WITH FUEL SURCHARGE'!I70*118% -> 1061.9486 | J70: ='WITH FUEL SURCHARGE'!J70*118% -> 1207.718 | ... P70: ='WITH FUEL SURCHARGE'!P70*118% -> 1678.1558
A72: Terms & Conditions :
A73: 1) Address correction if any will be charged Rs. 1200 extra per HWAB.
A74: 2) Non - DOX clearance in Bangladesh is subject to Consignee Request
A75: 3) All mentioned Rates are EX-Mumbai HUB
A76: 4) Actual or Volumetric weight whichever is higher will be charged .
A77: 5) Volumetric formula (LxBxH)/5000 in cms.
A78: 6) Destination duties and taxes to be paid by consignee, if consignee fails to pay then it will billed back to shipper.
A79: 7) Rs.3500 INR additional charges for chemical / Pharma shipments received without ADC NOC
A80: 8) Remote area surcharge of Rs.2500++ or Rs.40/kg++ whichever is higher applicable for remote area shipments.
A81: 9) Duties and Taxes Paid (DTP) surcharge of Rs.2350++ will be charged
...

Sheet ZONES
A1: UNITED EXPRESS INTERNATIONAL EXPORT ZONING
A2: Countries & Territories | B2: Zone | D2: Countries & Territories | E2: Zone | G2: Countries & Territories | H2: Zone | J2: Countries & Territories | K2: Zone
A3: Afghanistan (AF) | B3: 11 | D3: Ecuador (EC) | E3: 10 | G3: Libya (LY) | H3: 11 | J3: San Marino (SM) | K3: 11
A4: Albania (AL) | B4: 11 | D4: Egypt (EG) | E4: 11 | G4: Liechtenstein (LI) | H4: 7 | J4: Sao Tome And Principe (ST) | K4: 11
A5: Algeria (DZ) | B5: 11 | D5: El Salvador (SV) | E5: 10 | G5: Lithuania (LT) | H5: 8 | J5: Saudi Arabia (SA) | K5: 4
A6: American Samoa (AS) | B6: 9 | D6: Eritrea (ER) | E6: 11 | G6: Luxembourg (LU) | H6: 7 | J6: Senegal (SN) | K6: 11
A7: Andorra (AD) | B7: 8 | D7: Estonia (EE) | E7: 8 | G7: Macau SAR China (MO) | H7: 5 | J7: Serbia, Rep. Of (RS) | K7: 11
A8: Angola (AO) | B8: 11 | D8: Eswatini (SZ) | E8: 11 | G8: Madagascar (MG) | H8: 11 | J8: Seychelles (SC) | K8: 11
A9: Anguilla (AI) | B9: 10 | D9: Ethiopia (ET) | E9: 11 | G9: Malawi (MW) | H9: 11 | J9: Sierra Leone (SL) | K9: 11
A10: Antigua (AG) | B10: 10 | D10: Falkland Islands (FK) | E10: 8 | G10: Malaysia (MY) | H10: 2 | J10: Singapore (SG) | K10: 2
A11: Argentina (AR) | B11: 10 | D11: Faroe Islands (FO) | E11: 8 | G11: Maldives (MV) | H11: 1 | J11: Slovakia (SK) | K11: 7
A12: Armenia (AM) | B12: 11 | D12: Fiji (FJ) | E12: 11 | G12: Mali (ML) | H12: 11 | J12: Slovenia (SI) | K12: 8
A13: Aruba (AW) | B13: 10 | D13: Finland (FI) | E13: 8 | G13: Malta (MT) | H13: 8 | J13: Solomon Islands (SB) | K13: 11
... A17: Bahamas (BS) | B17: 10 | D17: Gambia (GM) | E17: 11 | G17: Mauritania (MR) | H17: 11 | J17: South Sudan (SS) | K17: 11
A18: Bahrain (BH) | B18: 4 | D18: Georgia (GE) | E18: 11 | G18: Mauritius (MU) | H18: 11 | J18: Spain (ES) | K18: 7 | M18: =17*25*31/5000 -> 2.635
A19: Bangladesh (BD) | B19: 1 | D19: Germany (DE) | E19: 7 | G19: Mayotte (YT) | H19: 11 | J19: Sri Lanka (LK) | K19: 1
A20: Barbados (BB) | B20: 10 | D20: Ghana (GH) | E20: 11 | G20: Mexico (MX) | H20: 9 | J20: St. Barthelemy (XY) | K20: 10
A21: Belarus (BY) | B21: 8 | D21: Gibraltar (GI) | E21: 8 | G21: Micronesia (FM) | H21: 11 | J21: St. Eustatius (XE) | K21: 10
A22: Belgium (BE) | B22: 7 | D22: Greece (GR) | E22: 8 | G22: Moldova, Rep. Of (MD) | H22: 11 | J22: St. Kitts (KN) | K22: 10
A23: Belize (BZ) | B23: 10 | D23: Greenland (GL) | E23: 8 | G23: Monaco (MC) | H23: 7 | J23: St. Lucia (LC) | K23: 10
A24: Benin (BJ) | B24: 11 | D24: Grenada (GD) | E24: 10 | G24: Mongolia (MN) | H24: 5 | J24: St. Maarten (XM) | K24: 10
A25: Bermuda (BM) | B25: 10 | D25: Guadeloupe (GP) | E25: 10 | G25: Montenegro, Rep Of (ME) | H25: 11 | J25: St. Vincent (VC) | K25: 10
A26: Bhutan (BT) | B26: 1 | D26: Guam (GU) | E26: 9 | G26: Montserrat (MS) | H26: 10 | J26: Sudan (SD) | K26: 11
A27: Bolivia (BO) | B27: 10 | D27: Guatemala (GT) | E27: 10 | G27: Morocco (MA) | H27: 11 | J27: Suriname (SR) | K27: 10
A28: Bonaire (XB) | B28: 10 | D28: Guernsey (GG) | E28: 8 | G28: Mozambique (MZ) | H28: 11 | J28: Sweden (SE) | K28: 7
A29: Bosnia & Herzegovina(BA) | B29: 11 | D29: Guinea Rep. (GN) | E29: 11 | G29: Myanmar (MM) | H29: 5 | J29: Switzerland (CH) | K29: 7
A30: Botswana (BW) | B30: 11 | D30: Guinea-Bissau (GW) | E30: 11 | G30: Namibia (NA) | H30: 11 | J30: Syria (SY) | K30: 4
... A60: Dominica (DM) | B60: 10 | D60: Liberia (LR) | E60: 11 | G60: Samoa (WS) | H60: 11 | J60: Zimbabwe (ZW) | K60: 11
A61: Dominican Rep. (DO) | B61: 10
E66: {{ esl:Signer1:Signature:size(200,25)}}

Sheet OTHER SURCHARGES
E1: WEF 25/11/2021
A2: Services & Surcharges | B2: Pricing Mechanism | C2: Charge Code | D2: Description | E2: 2022 Charge in INR (FUEL + GST)
A3: Elevated Risk | B3: Per Shipment | C3: CA | D3: Elevated Risk surcharge will apply when shipping to a destination country (Afghanistan, Iraq, Libya, Mali, Niger, Sudan, Syria and Yemen) where United Express is operating at elevated risk due to continuous state of war, civil unrest, or continuous threats from terrorism | E3: 1850
A4: Restricted Destination | B4: Per Shipment | C4: CB | D4: Restricted Destination surcharge will apply for Non Document shipments when shipping to a destination country (Central African Republic, Democratic Republic of Congo, Iran, Iraq, North Korea, Lebanon, Libya, Somalia, Syria and Yemen) that is subject to trade restrictions imposed by the UN Security Council | E4: 2750
A5: Duties and Taxes Paid | B5: Per Shipment | C5: DD | D5: At Shipper's request, an administration charge for invoicing duties and taxes to the Shipper, third party or to an entity in a third country, when such duties and taxes are not paid for by the Receiver at the Shipper's request. Duties and taxes are paid for by United Express at destination but then recovered from the Shipper through the Collect Billing system. Available only for select countries. | E5: 2% of fiscal charges with minimum of 3250
A6: Address correction | B6: Per Shipment | C6: MA | D6: Will be applicable on shipments that are undeliverable in the first attempt due to incorrect / incomplete delivery address or consignee details. | E6: 1200
A7: Remote Area Service | B7: Per Shipment | C7: OO/OB | D7: An international remote area service is defined by a post code (or town name in the absence of post code) that is determined as difficult to serve or too distant. Providing a pick-up / delivery shipments from / to such post codes requires a significant effort from United Express and presents considerable value to the Payer. | E7: INR 2,500 or INR 40 per kgs whichever is higher
A8: Non-Routine Entry | B8: Per Shipment | C8: WB | D8: Customs clearance charges for Inbound shipments cleared in Formal Mode | E8: 2900
A9: Clearance Data Modification | B9: Per Shipment | C9: WF | D9: A surcharge applies in case the customs declared value of a shipment requires modification either before, during or after the customs clearance process | E9: 880
A10: Delivery Order / Release to broker | B10: Per Shipment | C10: WN | D10: At Customer's request, the preparation and delivery by United Express, or the making available of shipment /piece paperwork that is required by a third party Broker to complete customs clearance for the Receiver. | E10: 3150
A11: Export Declaration | B11: Per Shipment | C11: WO | D11: Customs Clearance and processing charges for Outbound commercial shipments | E11: 3500
A12: Over Sized Piece | B12: Per Piece | C12: YB | D12: Any single piece in a shipment that exceeds the dimension of 120 cm, at which threshold all such pieces require non-standard procedures and resources to be handled. | E12: 5300
A13: Non-Stackable Pallet | B13: Per Piece | C13: YC | D13: The surcharge applies when any pallet piece in a shipment is deemed non-stackable due to its packaging, content or shape or is clearly marked with FRAGILE / DO NOT STACK instructions | E13: 16300
A14: Over Weight Piece | B14: Per Piece | C14: YY | D14: Any single piece in a shipment that exceeds the weight of 70kg, at which threshold all such pieces require non-standard procedures and resources to be handled | E14: 7500
A15: Physical Intervention | B15: Per Shipment | C15: WH | D15: A surcharge applies for shipments being intercepted for physical examination by Customs Authorities. Arrangements for inspections may also include full or partial unloading of a vehicle; the specific marking of prototypes, mutilation of samples or the examination of shipment content. | E15: 1750
